BEGIN:VCALENDAR
VERSION:2.0
PRODID:Caminhada das Quelhas
X-WR-CALNAME:Caminhada das Quelhas
X-WR-TIMEZONE:Europe/Lisbon
X-PUBLISHED-TTL:P1W
BEGIN:VTIMEZONE
TZID:Europe/Lisbon
X-LIC-LOCATION:Europe/Lisbon
END:VTIMEZONE
BEGIN:VEVENT
UID:69ea31cbcf1b8
DTSTART;VALUE=DATE:20260524
SEQUENCE:0
TRANSP:OPAQUE
DTEND;VALUE=DATE:20260525
SUMMARY:Caminhada das Quelhas
CLASS:PUBLIC
DESCRIPTION:Caminhada da Quelhas organizado pela Associação Desportiva e 
 Recreativa da Telhadela dia 24 de Maio.&nbsp\;ABERTURA DO SECRETARIADO ÀS
  8:30&nbsp\;INICIO DA CAMINHADA ÁS 9:30&nbsp\;
X-MICROSOFT-CDO-ALLDAYEVENT:TRUE
DTSTAMP:20260423T145051Z
END:VEVENT
END:VCALENDAR